BEGIN:VCALENDAR
VERSION:2.0
PRODID:-//Applied General Agency, LLC - ECPv6.15.14//NONSGML v1.0//EN
CALSCALE:GREGORIAN
METHOD:PUBLISH
X-WR-CALNAME:Applied General Agency, LLC
X-ORIGINAL-URL:https://appliedga.com
X-WR-CALDESC:Events for Applied General Agency, LLC
REFRESH-INTERVAL;VALUE=DURATION:PT1H
X-Robots-Tag:noindex
X-PUBLISHED-TTL:PT1H
BEGIN:VTIMEZONE
TZID:America/Los_Angeles
BEGIN:DAYLIGHT
TZOFFSETFROM:-0800
TZOFFSETTO:-0700
TZNAME:PDT
DTSTART:20250309T100000
END:DAYLIGHT
BEGIN:STANDARD
TZOFFSETFROM:-0700
TZOFFSETTO:-0800
TZNAME:PST
DTSTART:20251102T090000
END:STANDARD
BEGIN:DAYLIGHT
TZOFFSETFROM:-0800
TZOFFSETTO:-0700
TZNAME:PDT
DTSTART:20260308T100000
END:DAYLIGHT
BEGIN:STANDARD
TZOFFSETFROM:-0700
TZOFFSETTO:-0800
TZNAME:PST
DTSTART:20261101T090000
END:STANDARD
BEGIN:DAYLIGHT
TZOFFSETFROM:-0800
TZOFFSETTO:-0700
TZNAME:PDT
DTSTART:20270314T100000
END:DAYLIGHT
BEGIN:STANDARD
TZOFFSETFROM:-0700
TZOFFSETTO:-0800
TZNAME:PST
DTSTART:20271107T090000
END:STANDARD
END:VTIMEZONE
BEGIN:VEVENT
DTSTART;TZID=America/Los_Angeles:20260225T100000
DTEND;TZID=America/Los_Angeles:20260225T110000
DTSTAMP:20260421T010220
CREATED:20260217T205014Z
LAST-MODIFIED:20260217T205014Z
UID:10002996-1772013600-1772017200@appliedga.com
SUMMARY:Learn more about OEP\, SEP\, and Retention with Anthem
DESCRIPTION:Join Anthem and CareMore Health for an informative training session on OEP\, SEP\, and Retention.\nCareMore Health will also be available to answer questions!
URL:https://appliedga.com/event/primary-care-associates-of-california-alignment-keep-your-book-townhall-meeting-2/
LOCATION:Caremore Center – Downey\, 10000 Lakewood Blvd\, Downey\, 90240\, United States
CATEGORIES:AGA,Anthem,In-Person Events
ORGANIZER;CN="Kathleen Llado-Franzke":MAILTO:kllado-franzke@appliedga.com
END:VEVENT
END:VCALENDAR